BEGIN:VCALENDAR
VERSION:2.0
PRODID:-//Miroir Vagabond - ECPv6.14.0//NONSGML v1.0//EN
CALSCALE:GREGORIAN
METHOD:PUBLISH
X-ORIGINAL-URL:http://miroirvagabond.be
X-WR-CALDESC:Évènements pour Miroir Vagabond
REFRESH-INTERVAL;VALUE=DURATION:PT1H
X-Robots-Tag:noindex
X-PUBLISHED-TTL:PT1H
BEGIN:VTIMEZONE
TZID:Europe/Paris
BEGIN:DAYLIGHT
TZOFFSETFROM:+0100
TZOFFSETTO:+0200
TZNAME:CEST
DTSTART:20250330T010000
END:DAYLIGHT
BEGIN:STANDARD
TZOFFSETFROM:+0200
TZOFFSETTO:+0100
TZNAME:CET
DTSTART:20251026T010000
END:STANDARD
END:VTIMEZONE
BEGIN:VEVENT
DTSTART;VALUE=DATE:20250428
DTEND;VALUE=DATE:20250501
DTSTAMP:20260424T233414
CREATED:20250408T142127Z
LAST-MODIFIED:20250408T142127Z
UID:5014-1745798400-1746057599@miroirvagabond.be
SUMMARY:Ateliers pour adultes
DESCRIPTION:
URL:http://miroirvagabond.be/event/ateliers-pour-adultes/
LOCATION:Hotton
END:VEVENT
BEGIN:VEVENT
DTSTART;VALUE=DATE:20250428
DTEND;VALUE=DATE:20250501
DTSTAMP:20260424T233414
CREATED:20250408T141357Z
LAST-MODIFIED:20250408T141543Z
UID:5003-1745798400-1746057599@miroirvagabond.be
SUMMARY:Stage arts plastiques pour enfants
DESCRIPTION:
URL:http://miroirvagabond.be/event/stages-arts-plastiques-pour-enfants/
LOCATION:Hotton
END:VEVENT
END:VCALENDAR